View In:
ArcGIS JavaScript
ArcGIS Online Map Viewer
ArcGIS Earth
ArcGIS Pro
Service Description:
Map Name: AllSpring
Legend
All Layers and Tables
Layers:
Description:
Service Item Id: 320e100113c54b3cb05d63ae91f9623b
Copyright Text:
Spatial Reference:
102017
(102017)
Single Fused Map Cache: true
Tile Info:
- Height: 256.0
- Width: 256.0
- DPI: 96.0
-
Levels of Detail: 24
-
Level ID: 0
[ Start Tile, End Tile ]
- Resolution: 99546.983295591388
- Scale: 376240566.7864871
-
Level ID: 1
[ Start Tile, End Tile ]
- Resolution: 49773.491647795694
- Scale: 188120283.393243551
-
Level ID: 2
[ Start Tile, End Tile ]
- Resolution: 24886.745823897847
- Scale: 94060141.6966217756
-
Level ID: 3
[ Start Tile, End Tile ]
- Resolution: 12443.3729119489235
- Scale: 47030070.8483108878
-
Level ID: 4
[ Start Tile, End Tile ]
- Resolution: 6221.68645597446175
- Scale: 23515035.4241554439
-
Level ID: 5
[ Start Tile, End Tile ]
- Resolution: 3110.84322798723088
- Scale: 11757517.712077722
-
Level ID: 6
[ Start Tile, End Tile ]
- Resolution: 1555.42161399361544
- Scale: 5878758.856038861
-
Level ID: 7
[ Start Tile, End Tile ]
- Resolution: 777.710806996807719
- Scale: 2939379.42801943049
-
Level ID: 8
[ Start Tile, End Tile ]
- Resolution: 388.855403498403859
- Scale: 1469689.71400971524
-
Level ID: 9
[ Start Tile, End Tile ]
- Resolution: 194.42770174920193
- Scale: 734844.857004857622
-
Level ID: 10
[ Start Tile, End Tile ]
- Resolution: 97.2138508746009649
- Scale: 367422.428502428811
-
Level ID: 11
[ Start Tile, End Tile ]
- Resolution: 48.6069254373004824
- Scale: 183711.214251214406
-
Level ID: 12
[ Start Tile, End Tile ]
- Resolution: 24.3034627186502412
- Scale: 91855.6071256072028
-
Level ID: 13
[ Start Tile, End Tile ]
- Resolution: 12.1517313593251206
- Scale: 45927.8035628036014
-
Level ID: 14
[ Start Tile, End Tile ]
- Resolution: 6.0758656796625603
- Scale: 22963.9017814018007
-
Level ID: 15
[ Start Tile, End Tile ]
- Resolution: 3.0379328398312802
- Scale: 11481.9508907009
-
Level ID: 16
[ Start Tile, End Tile ]
- Resolution: 1.5189664199156401
- Scale: 5740.97544535045017
-
Level ID: 17
[ Start Tile, End Tile ]
- Resolution: 0.75948320995782004
- Scale: 2870.48772267522509
-
Level ID: 18
[ Start Tile, End Tile ]
- Resolution: 0.37974160497891002
- Scale: 1435.24386133761254
-
Level ID: 19
[ Start Tile, End Tile ]
- Resolution: 0.18987080248945501
- Scale: 717.621930668806272
-
Level ID: 20
[ Start Tile, End Tile ]
- Resolution: 0.094935401244727505
- Scale: 358.810965334403136
-
Level ID: 21
[ Start Tile, End Tile ]
- Resolution: 0.047467700622363752
- Scale: 179.405482667201568
-
Level ID: 22
[ Start Tile, End Tile ]
- Resolution: 0.023733850311181876
- Scale: 89.7027413336007839
-
Level ID: 23
[ Start Tile, End Tile ]
- Resolution: 0.011866925155590938
- Scale: 44.851370666800392
- Format: Mixed
- Compression Quality: 75.0
- Origin: X: -1.2742013861835698E7
Y: 1.2742013861835698E7
- Spatial Reference: 102017
(102017)
Storage Info:
- Storage Format: esriMapCacheStorageModeCompactV2
- Packet Size: 128
Initial Extent:
XMin: -6085368.09460305
YMin: -3705121.568929065
XMax: 4358106.3364287885
YMax: 4681196.265187099
Spatial Reference: 102017
(102017)
Full Extent:
XMin: -4320000.0
YMin: -3323925.3037419664
XMax: 2592738.241825738
YMax: 4300000.0
Spatial Reference: 102017
(102017)
Units: esriMeters
Supported Image Format Types: PNG32,PNG24,PNG,JPG,DIB,TIFF,EMF,PS,PDF,GIF,SVG,SVGZ,BMP
Document Info:
Title: Map2
Author:
Comments:
Subject:
Category:
Keywords:
AntialiasingMode: Fast
TextAntialiasingMode: Force
Supports Dynamic Layers: false
MaxRecordCount: 1000
MaxSelectionCount: 2000
MaxImageHeight: 4096
MaxImageWidth: 4096
Supported Query Formats: JSON, geoJSON, PBF
Supports Query Data Elements: true
Min Scale: 94060141.6966217756
Max Scale: 1469689.71400971524
Min LOD: 2
Max LOD: 8
Supports Datum Transformation: true
Child Resources:
Info
Supported Operations:
QueryLegends
Return Updates