{
 "documentInfo": {
  "Category": "",
  "Keywords": "",
  "Version": "3.5.0",
  "Comments": "",
  "AntialiasingMode": "Fast",
  "Title": "Map2",
  "Author": "",
  "TextAntialiasingMode": "Force",
  "Subject": ""
 },
 "maxImageWidth": 4096,
 "maxRecordCount": 1000,
 "tileInfo": {
  "lods": [
   {
    "level": 0,
    "scale": 376240566.7864871,
    "resolution": 99546.983295591388
   },
   {
    "level": 1,
    "scale": 188120283.393243551,
    "resolution": 49773.491647795694
   },
   {
    "level": 2,
    "scale": 94060141.6966217756,
    "resolution": 24886.745823897847
   },
   {
    "level": 3,
    "scale": 47030070.8483108878,
    "resolution": 12443.3729119489235
   },
   {
    "level": 4,
    "scale": 23515035.4241554439,
    "resolution": 6221.68645597446175
   },
   {
    "level": 5,
    "scale": 11757517.712077722,
    "resolution": 3110.84322798723088
   },
   {
    "level": 6,
    "scale": 5878758.856038861,
    "resolution": 1555.42161399361544
   },
   {
    "level": 7,
    "scale": 2939379.42801943049,
    "resolution": 777.710806996807719
   },
   {
    "level": 8,
    "scale": 1469689.71400971524,
    "resolution": 388.855403498403859
   },
   {
    "level": 9,
    "scale": 734844.857004857622,
    "resolution": 194.42770174920193
   },
   {
    "level": 10,
    "scale": 367422.428502428811,
    "resolution": 97.2138508746009649
   },
   {
    "level": 11,
    "scale": 183711.214251214406,
    "resolution": 48.6069254373004824
   },
   {
    "level": 12,
    "scale": 91855.6071256072028,
    "resolution": 24.3034627186502412
   },
   {
    "level": 13,
    "scale": 45927.8035628036014,
    "resolution": 12.1517313593251206
   },
   {
    "level": 14,
    "scale": 22963.9017814018007,
    "resolution": 6.0758656796625603
   },
   {
    "level": 15,
    "scale": 11481.9508907009,
    "resolution": 3.0379328398312802
   },
   {
    "level": 16,
    "scale": 5740.97544535045017,
    "resolution": 1.5189664199156401
   },
   {
    "level": 17,
    "scale": 2870.48772267522509,
    "resolution": 0.75948320995782004
   },
   {
    "level": 18,
    "scale": 1435.24386133761254,
    "resolution": 0.37974160497891002
   },
   {
    "level": 19,
    "scale": 717.621930668806272,
    "resolution": 0.18987080248945501
   },
   {
    "level": 20,
    "scale": 358.810965334403136,
    "resolution": 0.094935401244727505
   },
   {
    "level": 21,
    "scale": 179.405482667201568,
    "resolution": 0.047467700622363752
   },
   {
    "level": 22,
    "scale": 89.7027413336007839,
    "resolution": 0.023733850311181876
   },
   {
    "level": 23,
    "scale": 44.851370666800392,
    "resolution": 0.011866925155590938
   }
  ],
  "origin": {
   "x": -12742013.8618356977,
   "y": 12742013.8618356977
  },
  "format": "Mixed",
  "compressionQuality": 75,
  "rows": 256,
  "dpi": 96,
  "spatialReference": {
   "falseM": -100000,
   "xyTolerance": 0.001,
   "mUnits": 10000,
   "zUnits": 10000,
   "latestWkid": 102017,
   "zTolerance": 0.001,
   "wkid": 102017,
   "xyUnits": 10000,
   "mTolerance": 0.001,
   "falseX": -12742200,
   "falseY": -12742200,
   "falseZ": -100000
  },
  "cols": 256
 },
 "description": "",
 "datesInUnknownTimezone": false,
 "supportsQueryDomains": true,
 "units": "esriMeters",
 "maxSelectionCount": 2000,
 "supportedImageFormatTypes": "PNG32,PNG24,PNG,JPG,DIB,TIFF,EMF,PS,PDF,GIF,SVG,SVGZ,BMP",
 "supportsClipping": true,
 "maxImageHeight": 4096,
 "exportTilesAllowed": false,
 "tables": [],
 "supportsDatumTransformation": true,
 "cimVersion": "3.5.0",
 "supportsQueryDataElements": true,
 "layers": [
  {
   "subLayerIds": null,
   "maxScale": 0,
   "name": "All_spring_masked.tif",
   "defaultVisibility": true,
   "id": 0,
   "minScale": 0,
   "supportsDynamicLegends": true,
   "type": "Raster Layer",
   "parentLayerId": -1
  }
 ],
 "mapName": "AllSpring",
 "archivingInfo": {
  "supportsHistoricMoment": false
 },
 "minScale": 94060141.6966217756,
 "spatialReference": {
  "falseM": -100000,
  "xyTolerance": 0.001,
  "mUnits": 10000,
  "zUnits": 10000,
  "latestWkid": 102017,
  "zTolerance": 0.001,
  "wkid": 102017,
  "xyUnits": 10000,
  "mTolerance": 0.001,
  "falseX": -12742200,
  "falseY": -12742200,
  "falseZ": -100000
 },
 "fullExtent": {
  "ymin": -3323925.30374196637,
  "xmin": -4320000,
  "ymax": 4300000,
  "xmax": 2592738.241825738,
  "spatialReference": {
   "falseM": -100000,
   "xyTolerance": 0.001,
   "mUnits": 10000,
   "zUnits": 10000,
   "latestWkid": 102017,
   "zTolerance": 0.001,
   "wkid": 102017,
   "xyUnits": 10000,
   "mTolerance": 0.001,
   "falseX": -12742200,
   "falseY": -12742200,
   "falseZ": -100000
  }
 },
 "supportedExtensions": "",
 "serviceItemId": "320e100113c54b3cb05d63ae91f9623b",
 "capabilities": "TilesOnly,TileMap",
 "supportsDynamicLayers": false,
 "maxScale": 1469689.71400971524,
 "singleFusedMapCache": true,
 "currentVersion": 11.5,
 "storageInfo": {
  "storageFormat": "esriMapCacheStorageModeCompactV2",
  "packetSize": 128
 },
 "mapUnits": {
  "uwkid": 9001
 },
 "referenceScale": 0,
 "maxExportTilesCount": 100000,
 "supportsSpatialFilter": true,
 "maxLOD": 8,
 "supportedQueryFormats": "JSON, geoJSON, PBF",
 "minLOD": 2,
 "initialExtent": {
  "ymin": -3705121.568929065,
  "xmin": -6085368.09460304957,
  "ymax": 4681196.26518709864,
  "xmax": 4358106.33642878849,
  "spatialReference": {
   "falseM": -100000,
   "xyTolerance": 0.001,
   "mUnits": 10000,
   "zUnits": 10000,
   "latestWkid": 102017,
   "zTolerance": 0.001,
   "wkid": 102017,
   "xyUnits": 10000,
   "mTolerance": 0.001,
   "falseX": -12742200,
   "falseY": -12742200,
   "falseZ": -100000
  }
 },
 "serviceDescription": "",
 "copyrightText": "",
 "supportsTimeRelation": true
}
