View In:
ArcGIS JavaScript
ArcGIS Online Map Viewer
ArcGIS Earth
Service Description: wwf_data_transfer/Deforestation_HotSpots_Raster
Name: wwf_data_transfer/Deforestation_HotSpots_Raster
Description:
Single Fused Map Cache: false
Extent:
XMin: -2.003767787252412E7
YMin: -8192570.530195925
XMax: 2.004232212747588E7
YMax: 1.2783429469804075E7
Spatial Reference: 102100
(3857)
Initial Extent:
XMin: -2.003767787252412E7
YMin: -8192570.530195925
XMax: 2.004232212747588E7
YMax: 1.2783429469804075E7
Spatial Reference: 102100
(3857)
Full Extent:
XMin: -2.003767787252412E7
YMin: -8192570.530195925
XMax: 2.004232212747588E7
YMax: 1.2783429469804075E7
Spatial Reference: 102100
(3857)
Pixel Size X: 4000.0
Pixel Size Y: 4000.0
Band Count: 1
Pixel Type: U2
RasterFunction Infos: {"rasterFunctionInfos": [{
"help": "",
"name": "None",
"description": ""
}]}
Mensuration Capabilities: Basic
Inspection Capabilities:
Has Histograms: true
Has Colormap: false
Has Multi Dimensions : false
Rendering Rule:
Min Scale: 0
Max Scale: 0
Copyright Text:
Service Data Type: esriImageServiceDataTypeGeneric
Min Values: 0
Max Values: 1
Mean Values: 0.0015053226879573999
Standard Deviation Values: 0.038769275466119003
Object ID Field:
Fields:
None
Default Mosaic Method: Center
Allowed Mosaic Methods:
SortField:
SortValue: N/A
Mosaic Operator: First
Default Compression Quality: 75
Default Resampling Method: Bilinear
Max Record Count: null
Max Image Height: 4100
Max Image Width: 15000
Max Download Image Count: null
Max Mosaic Image Count: null
Allow Raster Function: true
Allow Copy: true
Allow Analysis: true
Allow Compute TiePoints: false
Supports Statistics: false
Supports Advanced Queries: false
Use StandardizedQueries: false
Raster Type Infos:
Name: Raster Dataset
Description: Supports all ArcGIS Raster Datasets
Help:
Has Raster Attribute Table: true
Edit Fields Info: N/A
Ownership Based AccessControl For Rasters: N/A
Child Resources:
Info
Raster Attribute Table
Histograms
Statistics
Key Properties
Legend
Raster Function Infos
Supported Operations:
Export Image
Identify
Measure
Compute Histograms
Compute Statistics Histograms
Get Samples
Compute Class Statistics
Query Boundary
Compute Pixel Location
Compute Angles
Validate
Project