<?xml version="1.0" encoding="UTF-8"?>
<Capabilities xmlns="http://www.opengis.net/wmts/1.0"
xmlns:ows="http://www.opengis.net/ows/1.1"
xmlns:xlink="http://www.w3.org/1999/xlink"
xmlns:xsi="http://www.w3.org/2001/XMLSchema-instance"
xmlns:gml="http://www.opengis.net/gml"
xsi:schemaLocation="http://www.opengis.net/wmts/1.0 http://schemas.opengis.net/wmts/1.0/wmtsGetCapabilities_response.xsd"
version="1.0.0">
<!-- Service Identification --> <ows:ServiceIdentification>
<ows:Title>Hosted_BO_Autumn_masked</ows:Title>
<ows:ServiceType>OGC WMTS</ows:ServiceType>
<ows:ServiceTypeVersion>1.0.0</ows:ServiceTypeVersion>
</ows:ServiceIdentification> <!-- Operations Metadata --> <ows:OperationsMetadata>
<ows:Operation name="GetCapabilities">
<ows:DCP>
<ows:HTTP>
<ows:Get xlink:href="https://wwf-sight-maps.org/arcgis/rest/services/Hosted/BO_Autumn_masked/MapServer/WMTS/1.0.0/WMTSCapabilities.xml">
<ows:Constraint name="GetEncoding">
<ows:AllowedValues>
<ows:Value>RESTful</ows:Value>
</ows:AllowedValues>
</ows:Constraint>
</ows:Get>
<!-- add KVP binding in 10.1 -->
<ows:Get xlink:href="https://wwf-sight-maps.org/arcgis/rest/services/Hosted/BO_Autumn_masked/MapServer/WMTS?">
<ows:Constraint name="GetEncoding">
<ows:AllowedValues>
<ows:Value>KVP</ows:Value>
</ows:AllowedValues>
</ows:Constraint>
</ows:Get>
</ows:HTTP>
</ows:DCP>
</ows:Operation>
<ows:Operation name="GetTile">
<ows:DCP>
<ows:HTTP>
<ows:Get xlink:href="https://wwf-sight-maps.org/arcgis/rest/services/Hosted/BO_Autumn_masked/MapServer/WMTS/tile/1.0.0/">
<ows:Constraint name="GetEncoding">
<ows:AllowedValues>
<ows:Value>RESTful</ows:Value>
</ows:AllowedValues>
</ows:Constraint>
</ows:Get>
<ows:Get xlink:href="https://wwf-sight-maps.org/arcgis/rest/services/Hosted/BO_Autumn_masked/MapServer/WMTS?">
<ows:Constraint name="GetEncoding">
<ows:AllowedValues>
<ows:Value>KVP</ows:Value>
</ows:AllowedValues>
</ows:Constraint>
</ows:Get>
</ows:HTTP>
</ows:DCP>
</ows:Operation>
</ows:OperationsMetadata> <Contents>
<!--Layer--> <Layer>
<ows:Title>Hosted_BO_Autumn_masked</ows:Title> <ows:Identifier>Hosted_BO_Autumn_masked</ows:Identifier>
<ows:BoundingBox crs="urn:ogc:def:crs:EPSG::102017">
<ows:LowerCorner>-4320000.0 -3323925.3037419664</ows:LowerCorner>
<ows:UpperCorner>2592738.241825738 4300000.0</ows:UpperCorner>
</ows:BoundingBox> <ows:WGS84BoundingBox crs="urn:ogc:def:crs:OGC:2:84">
<ows:LowerCorner>-180.0 32.960280159811695</ows:LowerCorner>
<ows:UpperCorner>180.0 90.0</ows:UpperCorner>
</ows:WGS84BoundingBox>
<Style isDefault="true">
<ows:Title>Default Style</ows:Title>
<ows:Identifier>default</ows:Identifier>
</Style>
<Format>image/jpgpng</Format>
<TileMatrixSetLink>
<TileMatrixSet>default028mm</TileMatrixSet>
</TileMatrixSetLink>
<ResourceURL format="image/jpgpng" resourceType="tile" template="https://wwf-sight-maps.org/arcgis/rest/services/Hosted/BO_Autumn_masked/MapServer/WMTS/tile/1.0.0/Hosted_BO_Autumn_masked/{Style}/{TileMatrixSet}/{TileMatrix}/{TileRow}/{TileCol}" />
</Layer> <!--TileMatrixSet-->
<TileMatrixSet>
<ows:Title>TileMatrix using 0.28mm</ows:Title>
<ows:Abstract>The tile matrix set that has scale values calculated based on the dpi defined by OGC specification (dpi assumes 0.28mm as the physical distance of a pixel).</ows:Abstract> <ows:Identifier>default028mm</ows:Identifier>
<ows:SupportedCRS>urn:ogc:def:crs:EPSG::102017</ows:SupportedCRS>
<TileMatrix>
<ows:Identifier>0</ows:Identifier>
<ScaleDenominator>3.555249403413531E8</ScaleDenominator>
<TopLeftCorner>-1.2742013861835698E7 1.2742013861835698E7</TopLeftCorner> <TileWidth>256</TileWidth> <TileHeight>256</TileHeight>
<MatrixWidth>1</MatrixWidth> <MatrixHeight>1</MatrixHeight>
</TileMatrix>
<TileMatrix>
<ows:Identifier>1</ows:Identifier>
<ScaleDenominator>1.7776247017067656E8</ScaleDenominator>
<TopLeftCorner>-1.2742013861835698E7 1.2742013861835698E7</TopLeftCorner> <TileWidth>256</TileWidth> <TileHeight>256</TileHeight>
<MatrixWidth>2</MatrixWidth> <MatrixHeight>2</MatrixHeight>
</TileMatrix>
<TileMatrix>
<ows:Identifier>2</ows:Identifier>
<ScaleDenominator>8.888123508533828E7</ScaleDenominator>
<TopLeftCorner>-1.2742013861835698E7 1.2742013861835698E7</TopLeftCorner> <TileWidth>256</TileWidth> <TileHeight>256</TileHeight>
<MatrixWidth>3</MatrixWidth> <MatrixHeight>3</MatrixHeight>
</TileMatrix>
<TileMatrix>
<ows:Identifier>3</ows:Identifier>
<ScaleDenominator>4.444061754266914E7</ScaleDenominator>
<TopLeftCorner>-1.2742013861835698E7 1.2742013861835698E7</TopLeftCorner> <TileWidth>256</TileWidth> <TileHeight>256</TileHeight>
<MatrixWidth>5</MatrixWidth> <MatrixHeight>6</MatrixHeight>
</TileMatrix>
<TileMatrix>
<ows:Identifier>4</ows:Identifier>
<ScaleDenominator>2.222030877133457E7</ScaleDenominator>
<TopLeftCorner>-1.2742013861835698E7 1.2742013861835698E7</TopLeftCorner> <TileWidth>256</TileWidth> <TileHeight>256</TileHeight>
<MatrixWidth>10</MatrixWidth> <MatrixHeight>11</MatrixHeight>
</TileMatrix>
<TileMatrix>
<ows:Identifier>5</ows:Identifier>
<ScaleDenominator>1.1110154385667285E7</ScaleDenominator>
<TopLeftCorner>-1.2742013861835698E7 1.2742013861835698E7</TopLeftCorner> <TileWidth>256</TileWidth> <TileHeight>256</TileHeight>
<MatrixWidth>20</MatrixWidth> <MatrixHeight>21</MatrixHeight>
</TileMatrix>
<TileMatrix>
<ows:Identifier>6</ows:Identifier>
<ScaleDenominator>5555077.1928336425</ScaleDenominator>
<TopLeftCorner>-1.2742013861835698E7 1.2742013861835698E7</TopLeftCorner> <TileWidth>256</TileWidth> <TileHeight>256</TileHeight>
<MatrixWidth>39</MatrixWidth> <MatrixHeight>41</MatrixHeight>
</TileMatrix>
<TileMatrix>
<ows:Identifier>7</ows:Identifier>
<ScaleDenominator>2777538.5964168212</ScaleDenominator>
<TopLeftCorner>-1.2742013861835698E7 1.2742013861835698E7</TopLeftCorner> <TileWidth>256</TileWidth> <TileHeight>256</TileHeight>
<MatrixWidth>78</MatrixWidth> <MatrixHeight>81</MatrixHeight>
</TileMatrix>
<TileMatrix>
<ows:Identifier>8</ows:Identifier>
<ScaleDenominator>1388769.2982084106</ScaleDenominator>
<TopLeftCorner>-1.2742013861835698E7 1.2742013861835698E7</TopLeftCorner> <TileWidth>256</TileWidth> <TileHeight>256</TileHeight>
<MatrixWidth>155</MatrixWidth> <MatrixHeight>162</MatrixHeight>
</TileMatrix>
<TileMatrix>
<ows:Identifier>9</ows:Identifier>
<ScaleDenominator>694384.6491042053</ScaleDenominator>
<TopLeftCorner>-1.2742013861835698E7 1.2742013861835698E7</TopLeftCorner> <TileWidth>256</TileWidth> <TileHeight>256</TileHeight>
<MatrixWidth>309</MatrixWidth> <MatrixHeight>323</MatrixHeight>
</TileMatrix>
<TileMatrix>
<ows:Identifier>10</ows:Identifier>
<ScaleDenominator>347192.32455210265</ScaleDenominator>
<TopLeftCorner>-1.2742013861835698E7 1.2742013861835698E7</TopLeftCorner> <TileWidth>256</TileWidth> <TileHeight>256</TileHeight>
<MatrixWidth>617</MatrixWidth> <MatrixHeight>646</MatrixHeight>
</TileMatrix>
<TileMatrix>
<ows:Identifier>11</ows:Identifier>
<ScaleDenominator>173596.16227605133</ScaleDenominator>
<TopLeftCorner>-1.2742013861835698E7 1.2742013861835698E7</TopLeftCorner> <TileWidth>256</TileWidth> <TileHeight>256</TileHeight>
<MatrixWidth>1233</MatrixWidth> <MatrixHeight>1292</MatrixHeight>
</TileMatrix>
<TileMatrix>
<ows:Identifier>12</ows:Identifier>
<ScaleDenominator>86798.08113802566</ScaleDenominator>
<TopLeftCorner>-1.2742013861835698E7 1.2742013861835698E7</TopLeftCorner> <TileWidth>256</TileWidth> <TileHeight>256</TileHeight>
<MatrixWidth>2465</MatrixWidth> <MatrixHeight>2583</MatrixHeight>
</TileMatrix>
<TileMatrix>
<ows:Identifier>13</ows:Identifier>
<ScaleDenominator>43399.04056901283</ScaleDenominator>
<TopLeftCorner>-1.2742013861835698E7 1.2742013861835698E7</TopLeftCorner> <TileWidth>256</TileWidth> <TileHeight>256</TileHeight>
<MatrixWidth>4930</MatrixWidth> <MatrixHeight>5165</MatrixHeight>
</TileMatrix>
<TileMatrix>
<ows:Identifier>14</ows:Identifier>
<ScaleDenominator>21699.520284506416</ScaleDenominator>
<TopLeftCorner>-1.2742013861835698E7 1.2742013861835698E7</TopLeftCorner> <TileWidth>256</TileWidth> <TileHeight>256</TileHeight>
<MatrixWidth>9859</MatrixWidth> <MatrixHeight>10329</MatrixHeight>
</TileMatrix>
<TileMatrix>
<ows:Identifier>15</ows:Identifier>
<ScaleDenominator>10849.760142253208</ScaleDenominator>
<TopLeftCorner>-1.2742013861835698E7 1.2742013861835698E7</TopLeftCorner> <TileWidth>256</TileWidth> <TileHeight>256</TileHeight>
<MatrixWidth>19718</MatrixWidth> <MatrixHeight>20658</MatrixHeight>
</TileMatrix>
<TileMatrix>
<ows:Identifier>16</ows:Identifier>
<ScaleDenominator>5424.880071126604</ScaleDenominator>
<TopLeftCorner>-1.2742013861835698E7 1.2742013861835698E7</TopLeftCorner> <TileWidth>256</TileWidth> <TileHeight>256</TileHeight>
<MatrixWidth>39436</MatrixWidth> <MatrixHeight>41316</MatrixHeight>
</TileMatrix>
<TileMatrix>
<ows:Identifier>17</ows:Identifier>
<ScaleDenominator>2712.440035563302</ScaleDenominator>
<TopLeftCorner>-1.2742013861835698E7 1.2742013861835698E7</TopLeftCorner> <TileWidth>256</TileWidth> <TileHeight>256</TileHeight>
<MatrixWidth>78872</MatrixWidth> <MatrixHeight>82632</MatrixHeight>
</TileMatrix>
<TileMatrix>
<ows:Identifier>18</ows:Identifier>
<ScaleDenominator>1356.220017781651</ScaleDenominator>
<TopLeftCorner>-1.2742013861835698E7 1.2742013861835698E7</TopLeftCorner> <TileWidth>256</TileWidth> <TileHeight>256</TileHeight>
<MatrixWidth>157743</MatrixWidth> <MatrixHeight>165264</MatrixHeight>
</TileMatrix>
<TileMatrix>
<ows:Identifier>19</ows:Identifier>
<ScaleDenominator>678.1100088908255</ScaleDenominator>
<TopLeftCorner>-1.2742013861835698E7 1.2742013861835698E7</TopLeftCorner> <TileWidth>256</TileWidth> <TileHeight>256</TileHeight>
<MatrixWidth>315485</MatrixWidth> <MatrixHeight>330528</MatrixHeight>
</TileMatrix>
<TileMatrix>
<ows:Identifier>20</ows:Identifier>
<ScaleDenominator>339.05500444541275</ScaleDenominator>
<TopLeftCorner>-1.2742013861835698E7 1.2742013861835698E7</TopLeftCorner> <TileWidth>256</TileWidth> <TileHeight>256</TileHeight>
<MatrixWidth>630970</MatrixWidth> <MatrixHeight>661056</MatrixHeight>
</TileMatrix>
<TileMatrix>
<ows:Identifier>21</ows:Identifier>
<ScaleDenominator>169.52750222270637</ScaleDenominator>
<TopLeftCorner>-1.2742013861835698E7 1.2742013861835698E7</TopLeftCorner> <TileWidth>256</TileWidth> <TileHeight>256</TileHeight>
<MatrixWidth>1261940</MatrixWidth> <MatrixHeight>1322112</MatrixHeight>
</TileMatrix>
<TileMatrix>
<ows:Identifier>22</ows:Identifier>
<ScaleDenominator>84.76375111135319</ScaleDenominator>
<TopLeftCorner>-1.2742013861835698E7 1.2742013861835698E7</TopLeftCorner> <TileWidth>256</TileWidth> <TileHeight>256</TileHeight>
<MatrixWidth>2523880</MatrixWidth> <MatrixHeight>2644223</MatrixHeight>
</TileMatrix>
<TileMatrix>
<ows:Identifier>23</ows:Identifier>
<ScaleDenominator>42.381875555676594</ScaleDenominator>
<TopLeftCorner>-1.2742013861835698E7 1.2742013861835698E7</TopLeftCorner> <TileWidth>256</TileWidth> <TileHeight>256</TileHeight>
<MatrixWidth>5047759</MatrixWidth> <MatrixHeight>5288445</MatrixHeight>
</TileMatrix>
</TileMatrixSet>
</Contents>
<ServiceMetadataURL xlink:href="https://wwf-sight-maps.org/arcgis/rest/services/Hosted/BO_Autumn_masked/MapServer/WMTS/1.0.0/WMTSCapabilities.xml" /> </Capabilities>
